BEGIN:VCALENDAR
VERSION:2.0
BEGIN:VEVENT
SUMMARY:Reach out to Central Mountain SBDC  about Central Mountain SBDC Advising & Training
DESCRIPTION:Reach out to them for information about their program.\n\nDescription: Free, confidential one-on-one business advising and no/low-cost training for entrepreneurs in Colorado's Central Mountain region (Chaffee, Lake, and Park counties), focused on rural mountain community entrepreneurs.\n\n- Phone: (719) 221-0374\n- Email: audrey@centralsbdc.org\n- Source: https://founder-nav.com/programs/recQOnmgSFjkTNw9c\n\n---\nBrought to you by Founder Nav, helping entrepreneurs navigate the entrepreneurial ecosystem.
DTSTART:20260425T100011Z
DTEND:20260425T103011Z
END:VEVENT
END:VCALENDAR