BEGIN:VCALENDAR
VERSION:2.0
BEGIN:VEVENT
SUMMARY:Reach out to Arizona Commerce Authority about ACA Small Business Academy
DESCRIPTION:Reach out to them for information about their program.\n\nDescription: A free online learning academy by the Arizona Commerce Authority providing small businesses and entrepreneurs across Arizona with courses and expert-led knowledge to scale their business.\n\n- Source: https://founder-nav.com/programs/recQB3jxJ3WINi0w1\n\n---\nBrought to you by Founder Nav, helping entrepreneurs navigate the entrepreneurial ecosystem.
DTSTART:20260425T100051Z
DTEND:20260425T103051Z
END:VEVENT
END:VCALENDAR