BEGIN:VCALENDAR
VERSION:2.0
BEGIN:VEVENT
SUMMARY:Reach out to Southwest Colorado Accelerator Program for Entrepreneurs (SCAPE) about SCAPE Accelerator Program
DESCRIPTION:Reach out to them for information about their program.\n\nDescription: Rolling-applications accelerator for scalable growth companies in Southwest Colorado with revenue and/or MVP traction. SCAPE has launched 53+ companies raising $60M+ in capital.\n\n- Phone: (970) 317-0880\n- Email: heather@goscape.org\n- Source: https://founder-nav.com/programs/recQ81coTF5TEiOkF\n\n---\nBrought to you by Founder Nav, helping entrepreneurs navigate the entrepreneurial ecosystem.
DTSTART:20260425T100055Z
DTEND:20260425T103055Z
END:VEVENT
END:VCALENDAR