BEGIN:VCALENDAR
VERSION:2.0
BEGIN:VEVENT
SUMMARY:Reach out to University of Bridgerport about SEC Club
DESCRIPTION:Reach out to them for information about their program.\n\nDescription: Student-run organization open to all current UB students interested in starting a business. As a member of the SEC club, you’ll network and collaborate with fellow student entrepreneurs to accelerate the successful development of your start-up ideas.\n\n- Phone: (203) 576-4190\n- Email: sdente@bridgeport.edu\n- Source: https://founder-nav.com/programs/recPzZ6FwN04v5IPJ\n\n---\nBrought to you by Founder Nav, helping entrepreneurs navigate the entrepreneurial ecosystem.
DTSTART:20260425T100009Z
DTEND:20260425T103009Z
END:VEVENT
END:VCALENDAR