BEGIN:VCALENDAR
VERSION:2.0
BEGIN:VEVENT
SUMMARY:Reach out to Middletown Area Chamber of Commerce about Middletown Business Incubator and Collaborative Workspace (MBI)
DESCRIPTION:Reach out to them for information about their program.\n\nDescription: Enterprise business center offering office space, co-working, and entrepreneur resources in Southern New Castle County's MOT (Middletown-Odessa-Townsend) area.\n\n- Phone: (302) 378-7545\n- Email: info@maccde.com\n- Source: https://founder-nav.com/programs/recPuXjTUHMJC5Ejs\n\n---\nBrought to you by Founder Nav, helping entrepreneurs navigate the entrepreneurial ecosystem.
DTSTART:20260425T100046Z
DTEND:20260425T103046Z
END:VEVENT
END:VCALENDAR