BEGIN:VCALENDAR
VERSION:2.0
BEGIN:VEVENT
SUMMARY:Reach out to Empower North End about Commercial Kitchen Incubator
DESCRIPTION:Reach out to them for information about their program.\n\nDescription: Wichita's largest nonprofit shared-use commercial kitchen, offering licensed commercial kitchen space, 24/7 access, cold and dry storage, and business support including help with licensing, insurance, and inspections for food entrepreneurs.\n\n- Phone: (316) 351-8612\n- Source: https://founder-nav.com/programs/recPhQJM1AXV7ANtr\n\n---\nBrought to you by Founder Nav, helping entrepreneurs navigate the entrepreneurial ecosystem.
DTSTART:20260426T100045Z
DTEND:20260426T103045Z
END:VEVENT
END:VCALENDAR