BEGIN:VCALENDAR
VERSION:2.0
BEGIN:VEVENT
SUMMARY:Reach out to Queen Anne’s County Economic & Tourism Development about Maryland Innovation Lab (Open Innovation Accelerator Program)
DESCRIPTION:Reach out to them for information about their program.\n\nDescription: Upcoming cohort of the Maryland Innovation Lab focusing on supply chain and logistics, pairing global startups with Maryland corporate partners for a 10-week solution validation sprint.\n\n- Email: scouting@lmarks.com\n- Source: https://founder-nav.com/programs/recPZwlAbeHkT4ocv\n\n---\nBrought to you by Founder Nav, helping entrepreneurs navigate the entrepreneurial ecosystem.
DTSTART:20260425T100040Z
DTEND:20260425T103040Z
END:VEVENT
END:VCALENDAR