BEGIN:VCALENDAR
VERSION:2.0
BEGIN:VEVENT
SUMMARY:Reach out to Carlsen Center for Innovation & Entrepreneurship about FourthWave Accelerator
DESCRIPTION:Reach out to them for information about their program.\n\nDescription: Accelerates women-led technology companies through mentorship, leadership coaching, business gap analysis, and pitch preparation, providing access to networks, subject matter experts, and support to help founders grow and scale their businesses.\n\n- Phone: (916) 278-6011\n- Source: https://founder-nav.com/programs/recPWg4qb3zEu7tvq\n\n---\nBrought to you by Founder Nav, helping entrepreneurs navigate the entrepreneurial ecosystem.
DTSTART:20260425T100001Z
DTEND:20260425T103001Z
END:VEVENT
END:VCALENDAR