BEGIN:VCALENDAR
VERSION:2.0
BEGIN:VEVENT
SUMMARY:Reach out to The Innovation Lab – Independence about 1:1 Business Coaching
DESCRIPTION:Reach out to them for information about their program.\n\nDescription: Personalized one-on-one coaching sessions pairing entrepreneurs with experienced business coaches to address specific challenges and growth goals.\n\n- Email: hello@innovationlab.us\n- Source: https://founder-nav.com/programs/recPVfgJFwb5khbMM\n\n---\nBrought to you by Founder Nav, helping entrepreneurs navigate the entrepreneurial ecosystem.
DTSTART:20260425T100047Z
DTEND:20260425T103047Z
END:VEVENT
END:VCALENDAR