BEGIN:VCALENDAR
VERSION:2.0
BEGIN:VEVENT
SUMMARY:Reach out to Defense Innovation OnRamp Hub: Kansas about Encountering Innovation
DESCRIPTION:Reach out to them for information about their program.\n\nDescription: Educational initiative introducing businesses and entrepreneurs to the defense innovation ecosystem, DoD contracting processes, and opportunities to engage with national security challenges.\n\n- Phone: (316) 978-2705\n- Source: https://founder-nav.com/programs/recPK2AmP3RhqfUhV\n\n---\nBrought to you by Founder Nav, helping entrepreneurs navigate the entrepreneurial ecosystem.
DTSTART:20260425T100000Z
DTEND:20260425T103000Z
END:VEVENT
END:VCALENDAR