BEGIN:VCALENDAR
VERSION:2.0
BEGIN:VEVENT
SUMMARY:Reach out to North Idaho College SBDC about One-on-One Business Consulting
DESCRIPTION:Reach out to them for information about their program.\n\nDescription: Free, confidential one-on-one business consulting provided by professional SBDC advisors at North Idaho College. Covers business planning, marketing, finance, operations, and growth for entrepreneurs in the Coeur d'Alene region.\n\n- Phone: (208) 665-5085\n- Email: nisbdc@nic.edu\n- Source: https://founder-nav.com/programs/recP8HLm1tw0v2cko\n\n---\nBrought to you by Founder Nav, helping entrepreneurs navigate the entrepreneurial ecosystem.
DTSTART:20260425T100008Z
DTEND:20260425T103008Z
END:VEVENT
END:VCALENDAR