BEGIN:VCALENDAR
VERSION:2.0
BEGIN:VEVENT
SUMMARY:Reach out to Sacramento Valley SBDC about SBDC Business Advising & Mentoring
DESCRIPTION:Reach out to them for information about their program.\n\nDescription: Provides confidential, no-cost business advising, training, and resources to help entrepreneurs and small businesses start, grow, or transition, serving the Sacramento Valley region with expert guidance in areas like funding, marketing, compliance, and operations.\n\n- Phone: (916) 655-2100\n- Source: https://founder-nav.com/programs/recP4jwPamybLkV44\n\n---\nBrought to you by Founder Nav, helping entrepreneurs navigate the entrepreneurial ecosystem.
DTSTART:20260425T100002Z
DTEND:20260425T103002Z
END:VEVENT
END:VCALENDAR