BEGIN:VCALENDAR
VERSION:2.0
BEGIN:VEVENT
SUMMARY:Reach out to Fintech Innovation Hub - University of Delaware about FinTech Innovation Hub Incubator
DESCRIPTION:Reach out to them for information about their program.\n\nDescription: The FinTech Innovation Hub on UD's STAR Campus is a $36M, 100,000 sq ft center providing startup incubation space managed by Delaware Technology Park, alongside UD's academic research, workforce development, and industry collaboration programs. The Hub focuses on financial health equity, cybersecurity, data analytics, and fintech innovation, with onsite access to SBDC, APEX Accelerators, and investor networks.\n\n- Phone: (302) 831-7140\n- Email: oeip-info@udel.edu\n- Source: https://founder-nav.com/programs/recP0DJDNR1yrf3Gx\n\n---\nBrought to you by Founder Nav, helping entrepreneurs navigate the entrepreneurial ecosystem.
DTSTART:20260425T100013Z
DTEND:20260425T103013Z
END:VEVENT
END:VCALENDAR