BEGIN:VCALENDAR
VERSION:2.0
BEGIN:VEVENT
SUMMARY:Reach out to Leadership Greater Hartford about Level UP
DESCRIPTION:Reach out to them for information about their program.\n\nDescription: Offers a multi-phase leadership development experience with workshops, personalized coaching, and needs assessment to address organizational challenges, enhance team performance, and build communication, strategic planning, and culture optimization skills.\n\n- Phone: (860) 206-5071\n- Email: peter.callahan@leadershipgh.org\n- Source: https://founder-nav.com/programs/recOx0M2lmpjgsX3x\n\n---\nBrought to you by Founder Nav, helping entrepreneurs navigate the entrepreneurial ecosystem.
DTSTART:20260425T100052Z
DTEND:20260425T103052Z
END:VEVENT
END:VCALENDAR