BEGIN:VCALENDAR
VERSION:2.0
BEGIN:VEVENT
SUMMARY:Reach out to AZ TechCelerator about AZ TechCelerator Business Incubator Program
DESCRIPTION:Reach out to them for information about their program.\n\nDescription: A premier technology-focused business incubator in Surprise, AZ offering affordable office space, mentorship, business training, and resources to help tech and innovative startups launch and grow.\n\n- Phone: (623) 222-3300\n- Source: https://founder-nav.com/programs/recOuwbZK7IxZJ7mx\n\n---\nBrought to you by Founder Nav, helping entrepreneurs navigate the entrepreneurial ecosystem.
DTSTART:20260425T100055Z
DTEND:20260425T103055Z
END:VEVENT
END:VCALENDAR