BEGIN:VCALENDAR
VERSION:2.0
BEGIN:VEVENT
SUMMARY:Reach out to Innosphere Ventures about Innosphere Life Sciences Incubation Program
DESCRIPTION:Reach out to them for information about their program.\n\nDescription: Annual cohort-based incubation program for life sciences startups in partnership with Colorado BioScience Association. Provides 12-month support, investor readiness, and leadership development for biotech, medtech, and healthcare innovators.\n\n- Phone: (970) 221-1301\n- Email: mike@innosphereventures.org\n- Source: https://founder-nav.com/programs/recOnXfASBCKm8ptK\n\n---\nBrought to you by Founder Nav, helping entrepreneurs navigate the entrepreneurial ecosystem.
DTSTART:20260425T100021Z
DTEND:20260425T103021Z
END:VEVENT
END:VCALENDAR