BEGIN:VCALENDAR
VERSION:2.0
BEGIN:VEVENT
SUMMARY:Reach out to ISU Research Park about ISU Startup Factory (16-week incubator)
DESCRIPTION:Reach out to them for information about their program.\n\nDescription: 16-week intensive incubator program supporting Iowa State-affiliated startups with mentorship, curriculum, workspace, and funding connections to launch and grow technology ventures.\n\n- Email: petehong@iastate.edu\n- Source: https://founder-nav.com/programs/recOmvzgtfZE42Qh1\n\n---\nBrought to you by Founder Nav, helping entrepreneurs navigate the entrepreneurial ecosystem.
DTSTART:20260425T100019Z
DTEND:20260425T103019Z
END:VEVENT
END:VCALENDAR