BEGIN:VCALENDAR
VERSION:2.0
BEGIN:VEVENT
SUMMARY:Reach out to Maine APEX Accelerator – Town of Fort Kent about Government Contracting Training Workshops
DESCRIPTION:Reach out to them for information about their program.\n\nDescription: Free training workshops and networking events covering all aspects of government contracting, offered in-person and virtually throughout Maine. Topics include SAM registration, cybersecurity compliance (CMMC), writing capabilities statements, bidding on federal solicitations, DBE certification, and more.\n\n- Phone: (207) 974-3249\n- Email: maineapex@emdc.org\n- Source: https://founder-nav.com/programs/recOkRwuDsEcENkQ7\n\n---\nBrought to you by Founder Nav, helping entrepreneurs navigate the entrepreneurial ecosystem.
DTSTART:20260425T100043Z
DTEND:20260425T103043Z
END:VEVENT
END:VCALENDAR