BEGIN:VCALENDAR
VERSION:2.0
BEGIN:VEVENT
SUMMARY:Reach out to Ames Regional Economic Alliance (AREA) about 1 Million Cups Ames
DESCRIPTION:Reach out to them for information about their program.\n\nDescription: Free weekly gathering where entrepreneurs present their businesses to the Ames community for feedback, networking, and connections to local support resources and training programs.\n\n- Phone: (515) 232-2310\n- Email: jan@amesalliance.com\n- Source: https://founder-nav.com/programs/recOjw9hiHXof5GKw\n\n---\nBrought to you by Founder Nav, helping entrepreneurs navigate the entrepreneurial ecosystem.
DTSTART:20260425T100051Z
DTEND:20260425T103051Z
END:VEVENT
END:VCALENDAR