BEGIN:VCALENDAR
VERSION:2.0
BEGIN:VEVENT
SUMMARY:Reach out to Mendocino SBDC about SBDC Business Advising & Mentoring
DESCRIPTION:Reach out to them for information about their program.\n\nDescription: Provides confidential, no-cost business advising, resources, and training to help entrepreneurs and small businesses at all stages with access to capital, marketing, compliance, and growth strategies.\n\n- Phone: (707) 964-7571\n- Source: https://founder-nav.com/programs/recOc3eg8nvVBqQZt\n\n---\nBrought to you by Founder Nav, helping entrepreneurs navigate the entrepreneurial ecosystem.
DTSTART:20260425T100044Z
DTEND:20260425T103044Z
END:VEVENT
END:VCALENDAR