BEGIN:VCALENDAR
VERSION:2.0
BEGIN:VEVENT
SUMMARY:Reach out to Boise State – Venture College about Mission43 Entrepreneur Course
DESCRIPTION:Reach out to them for information about their program.\n\nDescription: A Venture College program dedicated to Mission43 veterans and military spouses, helping those with actionable business concepts gain the training and resources needed to launch and run their own businesses.\n\n- Source: https://founder-nav.com/programs/recOYltuSM0OUY0ps\n\n---\nBrought to you by Founder Nav, helping entrepreneurs navigate the entrepreneurial ecosystem.
DTSTART:20260425T100010Z
DTEND:20260425T103010Z
END:VEVENT
END:VCALENDAR