BEGIN:VCALENDAR
VERSION:2.0
BEGIN:VEVENT
SUMMARY:Reach out to SCORE Alaska about SCORE Alaska Business Workshops
DESCRIPTION:Reach out to them for information about their program.\n\nDescription: Free and low-cost educational workshops covering key business topics for startup entrepreneurs and established small business owners, delivered in-person and virtually.\n\n- Source: https://founder-nav.com/programs/recOY5f6HITCYdPgo\n\n---\nBrought to you by Founder Nav, helping entrepreneurs navigate the entrepreneurial ecosystem.
DTSTART:20260425T100000Z
DTEND:20260425T103000Z
END:VEVENT
END:VCALENDAR