BEGIN:VCALENDAR
VERSION:2.0
BEGIN:VEVENT
SUMMARY:Reach out to Keystone Innovation District about Social Venture Studio
DESCRIPTION:Reach out to them for information about their program.\n\nDescription: Four-month program that is custom-designed for social entrepreneurs to grow their business and increase their community impact. Combines individual development, cohort learning, and the benefit of an unrestricted grant.\n\n- Email: Admin@keystonedistrict.org\n- Source: https://founder-nav.com/programs/recOVUhBN5Y2JUn60\n\n---\nBrought to you by Founder Nav, helping entrepreneurs navigate the entrepreneurial ecosystem.
DTSTART:20260425T100039Z
DTEND:20260425T103039Z
END:VEVENT
END:VCALENDAR