BEGIN:VCALENDAR
VERSION:2.0
BEGIN:VEVENT
SUMMARY:Reach out to NBIC about MNAA
DESCRIPTION:Reach out to them for information about their program.\n\nDescription: The Emerging Contractors program is a ten-month commitment for the business owner, where participants meet once a month for a full day of entrepreneurial training. Topics are heavily influenced by contemporary industry challenges, with the establishment of operating fundamentals that will allow for sustainability and scalability as points of emphasis.\n\n- Phone: (615) 492-0045\n- Email: nbic@nbichub.org\n- Source: https://founder-nav.com/programs/recORb5GqHa26zRGr\n\n---\nBrought to you by Founder Nav, helping entrepreneurs navigate the entrepreneurial ecosystem.
DTSTART:20260425T100033Z
DTEND:20260425T103033Z
END:VEVENT
END:VCALENDAR