BEGIN:VCALENDAR
VERSION:2.0
BEGIN:VEVENT
SUMMARY:Reach out to Greater New Haven Business & Professional Association about Small Business Start-Up Training
DESCRIPTION:Reach out to them for information about their program.\n\nDescription: Equips aspiring entrepreneurs with practical knowledge, hands-on guidance, and access to resources through workshops, seminars, and personalized support to help launch, manage, and grow successful businesses in the New Haven community.\n\n- Phone: (203) 562-2193\n- Email: info1.gnhbpa@gmail.com\n- Source: https://founder-nav.com/programs/recO938DEYiImugb7\n\n---\nBrought to you by Founder Nav, helping entrepreneurs navigate the entrepreneurial ecosystem.
DTSTART:20260425T100037Z
DTEND:20260425T103037Z
END:VEVENT
END:VCALENDAR