BEGIN:VCALENDAR
VERSION:2.0
BEGIN:VEVENT
SUMMARY:Reach out to University of Southern California Viterbi Startup Garage about Viterbi Startup Garage Residency Program
DESCRIPTION:Reach out to them for information about their program.\n\nDescription: A one-year, no-equity, no-fee residential incubator for early-stage technology startups based in Los Angeles, located in Silicon Beach, Marina Del Rey. Provides 24/7 co-working space as primary office, Innovator-in-Residence coaching, topical workshops, access to USC's alumni and investor network, and partnership with I-Corps Hub West for customer discovery. Seeks full-time LA-based founder teams, post-ideation with developed technology, with external funding plans. No equity or IP claims.\n\n- Source: https://founder-nav.com/programs/recNyHArLNyIq5obW\n\n---\nBrought to you by Founder Nav, helping entrepreneurs navigate the entrepreneurial ecosystem.
DTSTART:20260425T100043Z
DTEND:20260425T103043Z
END:VEVENT
END:VCALENDAR