BEGIN:VCALENDAR
VERSION:2.0
BEGIN:VEVENT
SUMMARY:Reach out to The Innovation Lab – Dubuque about Peer Learning Masterminds
DESCRIPTION:Reach out to them for information about their program.\n\nDescription: Structured peer group sessions where entrepreneurs share challenges, provide accountability, and learn from each other's experiences in a confidential setting.\n\n- Email: hello@innovationlab.us\n- Source: https://founder-nav.com/programs/recNsy7zVWnc683K0\n\n---\nBrought to you by Founder Nav, helping entrepreneurs navigate the entrepreneurial ecosystem.
DTSTART:20260425T100014Z
DTEND:20260425T103014Z
END:VEVENT
END:VCALENDAR