BEGIN:VCALENDAR
VERSION:2.0
BEGIN:VEVENT
SUMMARY:Reach out to San Diego Sport Innovators about Walton Innovation Lab Accelerator (formerly SDSI Accelerator)
DESCRIPTION:Reach out to them for information about their program.\n\nDescription: A 20-week accelerator program for sports, active lifestyle, and healthy living companies. Mentorship-driven with no equity taken. Annual membership required ($3,500).\n\n- Email: info@sdsportsinnovators.org\n- Source: https://founder-nav.com/programs/recNkX23DCpUFQp67\n\n---\nBrought to you by Founder Nav, helping entrepreneurs navigate the entrepreneurial ecosystem.
DTSTART:20260425T100009Z
DTEND:20260425T103009Z
END:VEVENT
END:VCALENDAR