BEGIN:VCALENDAR
VERSION:2.0
BEGIN:VEVENT
SUMMARY:Reach out to Loveland Chamber of Commerce about Loveland Chamber Small Business Programs
DESCRIPTION:Reach out to them for information about their program.\n\nDescription: Loveland Chamber of Commerce business support programs providing networking, advocacy, training events, and connections to resources for businesses and entrepreneurs in the Loveland community.\n\n- Phone: (970) 667-6311\n- Source: https://founder-nav.com/programs/recNhwuO0C08VNmYs\n\n---\nBrought to you by Founder Nav, helping entrepreneurs navigate the entrepreneurial ecosystem.
DTSTART:20260425T100030Z
DTEND:20260425T103030Z
END:VEVENT
END:VCALENDAR