BEGIN:VCALENDAR
VERSION:2.0
BEGIN:VEVENT
SUMMARY:Reach out to SBDC - South Carolina about Veterans Business Program
DESCRIPTION:Reach out to them for information about their program.\n\nDescription: Helps active and reserve duty military and veterans reach their potential as entrepreneurs. The VBP offers resources such as free workshops and personalized consultations with experienced small business professionals.\n\n- Email: shbellows@sc.edu\n- Source: https://founder-nav.com/programs/recNgbRmJO8KCDhGV\n\n---\nBrought to you by Founder Nav, helping entrepreneurs navigate the entrepreneurial ecosystem.
DTSTART:20260425T100025Z
DTEND:20260425T103025Z
END:VEVENT
END:VCALENDAR