BEGIN:VCALENDAR
VERSION:2.0
BEGIN:VEVENT
SUMMARY:Reach out to DMACC Business Resources about Venture School (partnership with University of Iowa JPEC)
DESCRIPTION:Reach out to them for information about their program.\n\nDescription: 8-week NSF I-Corps-based entrepreneurial training program helping Des Moines area startups develop business models through customer discovery and market validation.\n\n- Email: dbr@dmacc.edu\n- Source: https://founder-nav.com/programs/recNgRGiYrXIK4xBs\n\n---\nBrought to you by Founder Nav, helping entrepreneurs navigate the entrepreneurial ecosystem.
DTSTART:20260425T100025Z
DTEND:20260425T103025Z
END:VEVENT
END:VCALENDAR