BEGIN:VCALENDAR
VERSION:2.0
BEGIN:VEVENT
SUMMARY:Reach out to Georgia State University about Main Street Entrepreneurs Seed Fund
DESCRIPTION:Reach out to them for information about their program.\n\nDescription: Georgia State’s award-winning Main Street Entrepreneurs Seed Fund (MSESF) business accelerator program is designed to support underrepresented student, recent alumni and Georgia State community entrepreneurs with seed funding and mentorship to start and grow new ventures.\n\n- Phone: (404) 413-7910\n- Email: eni@gsu.edu\n- Source: https://founder-nav.com/programs/recNfmewrtURxKXCi\n\n---\nBrought to you by Founder Nav, helping entrepreneurs navigate the entrepreneurial ecosystem.
DTSTART:20260425T100037Z
DTEND:20260425T103037Z
END:VEVENT
END:VCALENDAR