BEGIN:VCALENDAR
VERSION:2.0
BEGIN:VEVENT
SUMMARY:Reach out to Innovation Maryland about STARTUP Accelerator Showcase
DESCRIPTION:Reach out to them for information about their program.\n\nDescription: An intensive 14-week virtual accelerator powered by bwtech@UMBC and Innovation Maryland using the FounderTrac™ process. Designed for Maryland-based early-stage founders and CEOs to maximize growth potential and investment readiness. Seven biweekly sessions plus off-weeks for assignments and mentor meetings, culminating in a live pitch showcase on May 6, 2026.\n\n- Source: https://founder-nav.com/programs/recNfDPe4Lxa2SxWu\n\n---\nBrought to you by Founder Nav, helping entrepreneurs navigate the entrepreneurial ecosystem.
DTSTART:20260426T100025Z
DTEND:20260426T103025Z
END:VEVENT
END:VCALENDAR