BEGIN:VCALENDAR
VERSION:2.0
BEGIN:VEVENT
SUMMARY:Reach out to South Carolina Department of Commerce about SC Nexus
DESCRIPTION:Reach out to them for information about their program.\n\nDescription: Led by South Carolina Research Authority, this project will provide comprehensive business, technical and hands-on training, leverage and connect assets of existing entrepreneurship and innovation ecosystem across the SC NEXUS hub, and deploy additional capital and incentives to support new and growing startups.\n\n- Email: SCnexus@sccommerce.com\n- Source: https://founder-nav.com/programs/recNa8lehgDZpPECb\n\n---\nBrought to you by Founder Nav, helping entrepreneurs navigate the entrepreneurial ecosystem.
DTSTART:20260425T100022Z
DTEND:20260425T103022Z
END:VEVENT
END:VCALENDAR