BEGIN:VCALENDAR
VERSION:2.0
BEGIN:VEVENT
SUMMARY:Reach out to North Coast SBDC (Del Norte) about Farm Business Program (Flight Cohort)
DESCRIPTION:Reach out to them for information about their program.\n\nDescription: Offers workshops and one-on-one advising to help small and new farmers develop business skills, create business plans, understand regulations, access financing, and connect with local networks to grow or launch their farm businesses.\n\n- Phone: (707) 445-9720\n- Email: admin@northcoastsbdc.org\n- Source: https://founder-nav.com/programs/recNYiboe0vsheh09\n\n---\nBrought to you by Founder Nav, helping entrepreneurs navigate the entrepreneurial ecosystem.
DTSTART:20260425T100034Z
DTEND:20260425T103034Z
END:VEVENT
END:VCALENDAR