BEGIN:VCALENDAR
VERSION:2.0
BEGIN:VEVENT
SUMMARY:Reach out to Patsy T. Mink Center for Business & Leadership about Patsy T. Mink Leadership Alliance
DESCRIPTION:Reach out to them for information about their program.\n\nDescription: Intensive 10-month leadership development program for women business owners and professionals in Hawaii. Combines cohort-based learning, executive coaching, and peer support to develop leadership skills and expand professional networks.\n\n- Phone: (808) 695-2633\n- Email: mcbl@ywcaoahu.org\n- Source: https://founder-nav.com/programs/recNXvijPtCZvIC06\n\n---\nBrought to you by Founder Nav, helping entrepreneurs navigate the entrepreneurial ecosystem.
DTSTART:20260425T100055Z
DTEND:20260425T103055Z
END:VEVENT
END:VCALENDAR