BEGIN:VCALENDAR
VERSION:2.0
BEGIN:VEVENT
SUMMARY:Reach out to University of Iowa Office of Innovation about Iowa Innovation Leadership Fellowship
DESCRIPTION:Reach out to them for information about their program.\n\nDescription: Year-long fellowship for UI graduate trainees to develop entrepreneurial and innovation leadership skills through training, mentorship, and hands-on startup projects.\n\n- Email: uiventures@uiowa.edu\n- Source: https://founder-nav.com/programs/recNNczZ1cczgc7hs\n\n---\nBrought to you by Founder Nav, helping entrepreneurs navigate the entrepreneurial ecosystem.
DTSTART:20260425T100000Z
DTEND:20260425T103000Z
END:VEVENT
END:VCALENDAR