BEGIN:VCALENDAR
VERSION:2.0
BEGIN:VEVENT
SUMMARY:Reach out to Alaska Interior Business Accelerator about Alaska Interior Business Accelerator (AIBA)
DESCRIPTION:Reach out to them for information about their program.\n\nDescription: An 8-week accelerator providing aspiring entrepreneurs and small businesses in Interior Alaska with foundational business skills, mentorship, networking, and pitch competition experience.\n\n- Email: mwilliams@investfairbanks.com\n- Source: https://founder-nav.com/programs/recNIGCUSuEFGLRED\n\n---\nBrought to you by Founder Nav, helping entrepreneurs navigate the entrepreneurial ecosystem.
DTSTART:20260425T100012Z
DTEND:20260425T103012Z
END:VEVENT
END:VCALENDAR