BEGIN:VCALENDAR
VERSION:2.0
BEGIN:VEVENT
SUMMARY:Reach out to The Iowa Center for Economic Success about Business Coaching
DESCRIPTION:Reach out to them for information about their program.\n\nDescription: Skills-based 1:1 and classroom business coaching covering the five fundamentals of small business: strategy, financials, marketing, HR, and legal/compliance.\n\n- Phone: (515) 283-0940\n- Email: INFO@THEIOWACENTER.ORG\n- Source: https://founder-nav.com/programs/recNB3TzweebmNcrt\n\n---\nBrought to you by Founder Nav, helping entrepreneurs navigate the entrepreneurial ecosystem.
DTSTART:20260425T100039Z
DTEND:20260425T103039Z
END:VEVENT
END:VCALENDAR