BEGIN:VCALENDAR
VERSION:2.0
BEGIN:VEVENT
SUMMARY:Reach out to Chesapeake Agriculture Innovation Center (CAIC) about Emerging Business Program
DESCRIPTION:Reach out to them for information about their program.\n\nDescription: Program for value-added producers ready to implement systems and structures to grow, providing consulting services, business plan development, and access to legal/regulatory guidance.\n\n- Phone: (410) 770-9330\n- Email: info@caic.org\n- Source: https://founder-nav.com/programs/recN6qKNMZMxRzfjk\n\n---\nBrought to you by Founder Nav, helping entrepreneurs navigate the entrepreneurial ecosystem.
DTSTART:20260425T100035Z
DTEND:20260425T103035Z
END:VEVENT
END:VCALENDAR