BEGIN:VCALENDAR
VERSION:2.0
BEGIN:VEVENT
SUMMARY:Reach out to San Joaquin SBDC about SJC Incubator Program
DESCRIPTION:Reach out to them for information about their program.\n\nDescription: Offers weekly cohort sessions, hands-on workshops, and mentorship to help entrepreneurs develop, test, and launch business ideas, with opportunities to compete for funding and support for both personal and business growth.\n\n- Source: https://founder-nav.com/programs/recN4Md23lvEm0tWg\n\n---\nBrought to you by Founder Nav, helping entrepreneurs navigate the entrepreneurial ecosystem.
DTSTART:20260425T100022Z
DTEND:20260425T103022Z
END:VEVENT
END:VCALENDAR