BEGIN:VCALENDAR
VERSION:2.0
BEGIN:VEVENT
SUMMARY:Reach out to California Women’s Business Centers about California Women's Business Center Advising & Training
DESCRIPTION:Reach out to them for information about their program.\n\nDescription: No-cost one-on-one advising, training, and mentorship programs for women entrepreneurs and small business owners across 21 centers in 53 California counties.\n\n- Phone: (833) 939-3709\n- Source: https://founder-nav.com/programs/recN38jdRaKkXQcJN\n\n---\nBrought to you by Founder Nav, helping entrepreneurs navigate the entrepreneurial ecosystem.
DTSTART:20260425T100051Z
DTEND:20260425T103051Z
END:VEVENT
END:VCALENDAR