BEGIN:VCALENDAR
VERSION:2.0
BEGIN:VEVENT
SUMMARY:Reach out to Y Combinator about Y Combinator Startup Program
DESCRIPTION:Reach out to them for information about their program.\n\nDescription: The world's most prestigious startup accelerator, offering $500K in funding for 7% equity in exchange for 3 months of intensive mentorship, community, and Demo Day access. Based in San Francisco with 4 batches per year.\n\n- Email: apply@ycombinator.com\n- Source: https://founder-nav.com/programs/recN2q5vT99YoUlnq\n\n---\nBrought to you by Founder Nav, helping entrepreneurs navigate the entrepreneurial ecosystem.
DTSTART:20260425T100053Z
DTEND:20260425T103053Z
END:VEVENT
END:VCALENDAR