BEGIN:VCALENDAR
VERSION:2.0
BEGIN:VEVENT
SUMMARY:Reach out to CWI Entrepreneur Lab about Exploration Cohort
DESCRIPTION:Reach out to them for information about their program.\n\nDescription: A 2-week cohort at CWI's Entrepreneur Lab helping participants explore how to monetize a hobby or skill and take the first steps toward turning it into a side hustle or business.\n\n- Source: https://founder-nav.com/programs/recN0JvKbFUHaebxd\n\n---\nBrought to you by Founder Nav, helping entrepreneurs navigate the entrepreneurial ecosystem.
DTSTART:20260425T100044Z
DTEND:20260425T103044Z
END:VEVENT
END:VCALENDAR