BEGIN:VCALENDAR
VERSION:2.0
BEGIN:VEVENT
SUMMARY:Reach out to Unknown Hub about Crucible Accelerator
DESCRIPTION:Reach out to them for information about their program.\n\nDescription: Crucible Ignitor: Helps participants launch startups using West Coast federal and university lab technologies for defense and commercial applications, offering virtual workshops and mentorship for early-stage innovators.\n\nCrucible Accelerator: Provides mentorship, resources, and strategic partnership opportunities to help early-stage startups grow and address real-world challenges, with a focus on the Pacific Northwest.\n\nAPEX Accelerator: Offers expert guidance for businesses seeking government contracts and innovation grants, assisting with certifications, opportunity identification, and proposal preparation for mature-stage companies.\n\n- Phone: (951) 827-7941\n- Email: tp@ucr.edu\n- Source: https://founder-nav.com/programs/recMvqybyLPkKHlBO\n\n---\nBrought to you by Founder Nav, helping entrepreneurs navigate the entrepreneurial ecosystem.
DTSTART:20260425T100038Z
DTEND:20260425T103038Z
END:VEVENT
END:VCALENDAR