BEGIN:VCALENDAR
VERSION:2.0
BEGIN:VEVENT
SUMMARY:Reach out to Uptima Entrepreneur Cooperative about Workshops for Business Owners
DESCRIPTION:Reach out to them for information about their program.\n\nDescription: Provides practical instruction and hands-on learning for business owners and advisors, helping them address real challenges, build skills, and connect with peers through accessible workshop series and one-time sessions focused on business growth and development.\n\n- Phone: (510) 227-7027\n- Email: info@uptimacoop.com\n- Source: https://founder-nav.com/programs/recMvKNWg2mQDJxdz\n\n---\nBrought to you by Founder Nav, helping entrepreneurs navigate the entrepreneurial ecosystem.
DTSTART:20260425T100008Z
DTEND:20260425T103008Z
END:VEVENT
END:VCALENDAR