BEGIN:VCALENDAR
VERSION:2.0
BEGIN:VEVENT
SUMMARY:Reach out to Russel Innovation Center for Entrepreneurs about Supply Chain Accelerator at RICE
DESCRIPTION:Reach out to them for information about their program.\n\nDescription: Designed for Black entrepreneurs who are ready to take the next step of doing business with Fortune 500 companies or government agencies. The program focuses on contract readiness and goes beyond education to equity, presenting participants with exponential contracting opportunities. The program has reverse-engineered the contract acquisition process and works directly with corporations to create more access and equity in purchasing and procurement for Black entrepreneurs. The program is immersive and expert-driven, facilitated by key partners who provide industry insights and tailored technical assistance to growth-stage Stakeholder businesses addressing their specific needs.   \n\n- Email: Paul@gatech.edu\n- Source: https://founder-nav.com/programs/recMtW6KHxt4L5nKC\n\n---\nBrought to you by Founder Nav, helping entrepreneurs navigate the entrepreneurial ecosystem.
DTSTART:20260425T100059Z
DTEND:20260425T103059Z
END:VEVENT
END:VCALENDAR