BEGIN:VCALENDAR
VERSION:2.0
BEGIN:VEVENT
SUMMARY:Reach out to Lewis University about Lewis Innovation Hub
DESCRIPTION:Reach out to them for information about their program.\n\nDescription: Membership perks feature co-working space, conference rooms, event space, access to our team of expert advisors, and much more. We pair our collaborative environment with tools to help you accelerate your business idea with flexible membership options.\n\n- Phone: (630) 841-5214\n- Email: hub@lewisu.edu\n- Source: https://founder-nav.com/programs/recMrKnc7EEKIiNXf\n\n---\nBrought to you by Founder Nav, helping entrepreneurs navigate the entrepreneurial ecosystem.
DTSTART:20260425T100027Z
DTEND:20260425T103027Z
END:VEVENT
END:VCALENDAR