BEGIN:VCALENDAR
VERSION:2.0
BEGIN:VEVENT
SUMMARY:Reach out to World Trade Center Delaware about International Trade Training Program
DESCRIPTION:Reach out to them for information about their program.\n\nDescription: World Trade Center Delaware offers seminars and workshops on international trade topics for businesses of all sizes and industries. Programs are open to the public with discounted rates for WTC members, and on-site custom training sessions can be arranged for individual companies. Topics include market research, export/import compliance, currency exchange, and global business development.\n\n- Phone: (302) 656-7905\n- Email: cstone@wtcde.org\n- Source: https://founder-nav.com/programs/recMpaYwIsUgzQQLF\n\n---\nBrought to you by Founder Nav, helping entrepreneurs navigate the entrepreneurial ecosystem.
DTSTART:20260425T100022Z
DTEND:20260425T103022Z
END:VEVENT
END:VCALENDAR