BEGIN:VCALENDAR
VERSION:2.0
BEGIN:VEVENT
SUMMARY:Reach out to America’s SBDC Iowa (State Office) about No-Cost Business Advising & Counseling
DESCRIPTION:Reach out to them for information about their program.\n\nDescription: Free, confidential, customized one-on-one business counseling for Iowa entrepreneurs and small businesses through 15 regional centers, funded by ISU and the U.S. Small Business Administration.\n\n- Phone: (515) 294-2030\n- Email: iowasbdc@iastate.edu\n- Source: https://founder-nav.com/programs/recMnBg4fGeni9MIW\n\n---\nBrought to you by Founder Nav, helping entrepreneurs navigate the entrepreneurial ecosystem.
DTSTART:20260425T100051Z
DTEND:20260425T103051Z
END:VEVENT
END:VCALENDAR